BEGIN:VCALENDAR
VERSION:2.0
PRODID:-//Shaping Murrindindi&#039;s Future - ECPv6.15.3//NONSGML v1.0//EN
CALSCALE:GREGORIAN
METHOD:PUBLISH
X-WR-CALNAME:Shaping Murrindindi&#039;s Future
X-ORIGINAL-URL:https://shapingmurrindindisfuture.com.au
X-WR-CALDESC:Events for Shaping Murrindindi&#039;s Future
REFRESH-INTERVAL;VALUE=DURATION:PT1H
X-Robots-Tag:noindex
X-PUBLISHED-TTL:PT1H
BEGIN:VTIMEZONE
TZID:Australia/Melbourne
BEGIN:STANDARD
TZOFFSETFROM:+1100
TZOFFSETTO:+1000
TZNAME:AEST
DTSTART:20230401T160000
END:STANDARD
BEGIN:DAYLIGHT
TZOFFSETFROM:+1000
TZOFFSETTO:+1100
TZNAME:AEDT
DTSTART:20230930T160000
END:DAYLIGHT
END:VTIMEZONE
BEGIN:VEVENT
DTSTART;TZID=Australia/Melbourne:20230519T180000
DTEND;TZID=Australia/Melbourne:20230519T200000
DTSTAMP:20260421T233634
CREATED:20240125T032635Z
LAST-MODIFIED:20240125T032635Z
UID:388015-1684519200-1684526400@shapingmurrindindisfuture.com.au
SUMMARY:Shaping Murrindindi’s Future – innovation and opportunities for the future
DESCRIPTION:An interactive 1.5 hour 3 Horizon workshop featuring Paul Ryan from the Resilience Centre- exploring pathways towards positive futures. \n\n\nRESERVE A SPOT\n\n\nAbout – Duration:  2.5 hours\nCost: Free \n\n\n\n\n\nThis project unites and connects locals who care about the future of their community. The project encourages creative and innovative thinking towards practical future concepts to build capacity and support resilient\, connected and thriving local communities. \nThis will empower communities who are directly impacted by the transition away from native timber harvesting. In particular\, the areas of Marysville\, Buxton\, Taggerty and Alexandra will identify strengths\, assets and develop opportunities for innovative diversification. The project aims to facilitate engagement and collaboration with community\, business\, local industries\, education and government. \nThe project is supported by the Department of Energy\, Environment and Climate Action\, RMIT University and Murrindindi Shire Council. \nTwo workshops will be held where community can learn more about the project and hear from Paul Ryan\, Director of the Resilience Centre\, as he explains the three horizons approach to exploring pathways towards positive futures. Come along to either of the workshops held on Friday May 19 @ Marysville Golf Club\, or Saturday May 20 @ Bonfire Station in Taggerty. Registration is required for catering purposes. Dinner and drinks will be provided at both events.
URL:https://shapingmurrindindisfuture.com.au/event/shaping-murrindindis-future-innovation-and-opportunities-for-the-future-2/
LOCATION:Marysville Golf Club\, 56 Buxton-Marysville Road\, Marysville\, Victoria\, 3779\, Australia
ORGANIZER;CN="Shaping Murrindindi%E2%80%99s Future":MAILTO:amilestone@murrindindi.vic.gov.au
END:VEVENT
END:VCALENDAR